BEGIN:VCALENDAR
VERSION:2.0
PRODID:-//Coalition of Refuge Friends and Advocates - ECPv6.15.20//NONSGML v1.0//EN
CALSCALE:GREGORIAN
METHOD:PUBLISH
X-ORIGINAL-URL:https://coalitionofrefugefriends.com
X-WR-CALDESC:Events for Coalition of Refuge Friends and Advocates
REFRESH-INTERVAL;VALUE=DURATION:PT1H
X-Robots-Tag:noindex
X-PUBLISHED-TTL:PT1H
BEGIN:VTIMEZONE
TZID:America/Anchorage
BEGIN:DAYLIGHT
TZOFFSETFROM:-0900
TZOFFSETTO:-0800
TZNAME:AKDT
DTSTART:20240310T110000
END:DAYLIGHT
BEGIN:STANDARD
TZOFFSETFROM:-0800
TZOFFSETTO:-0900
TZNAME:AKST
DTSTART:20241103T100000
END:STANDARD
BEGIN:DAYLIGHT
TZOFFSETFROM:-0900
TZOFFSETTO:-0800
TZNAME:AKDT
DTSTART:20250309T110000
END:DAYLIGHT
BEGIN:STANDARD
TZOFFSETFROM:-0800
TZOFFSETTO:-0900
TZNAME:AKST
DTSTART:20251102T100000
END:STANDARD
BEGIN:DAYLIGHT
TZOFFSETFROM:-0900
TZOFFSETTO:-0800
TZNAME:AKDT
DTSTART:20260308T110000
END:DAYLIGHT
BEGIN:STANDARD
TZOFFSETFROM:-0800
TZOFFSETTO:-0900
TZNAME:AKST
DTSTART:20261101T100000
END:STANDARD
END:VTIMEZONE
BEGIN:VEVENT
DTSTART;TZID=America/Anchorage:20250121T170000
DTEND;TZID=America/Anchorage:20250121T170000
DTSTAMP:20260423T004654
CREATED:20250115T180411Z
LAST-MODIFIED:20250115T180411Z
UID:10000008-1737478800-1737478800@coalitionofrefugefriends.com
SUMMARY:What Really Matters
DESCRIPTION:All welcome on zoom. A great discussion on the value and future of refuges with Andy Loranger\, Kenai Refuge\, 2018 refuge manager of the year and Steve Delehanty\, manager of the Alaska Maritime\, reflect on what their careers have taught them. Both are retiring this week. https://alaskarefugefriends.org/what-really-matters-1-25/ for link and details.
URL:https://coalitionofrefugefriends.com/event/what-really-matters/
CATEGORIES:Event
ATTACH;FMTTYPE=image/jpeg:https://coalitionofrefugefriends.com/wp-content/uploads/2025/01/FoA-event.jpg
END:VEVENT
END:VCALENDAR