BEGIN:VCALENDAR
VERSION:2.0
PRODID:-//Coalition of Refuge Friends and Advocates - ECPv6.15.20//NONSGML v1.0//EN
CALSCALE:GREGORIAN
METHOD:PUBLISH
X-WR-CALNAME:Coalition of Refuge Friends and Advocates
X-ORIGINAL-URL:https://coalitionofrefugefriends.com
X-WR-CALDESC:Events for Coalition of Refuge Friends and Advocates
REFRESH-INTERVAL;VALUE=DURATION:PT1H
X-Robots-Tag:noindex
X-PUBLISHED-TTL:PT1H
BEGIN:VTIMEZONE
TZID:America/New_York
BEGIN:DAYLIGHT
TZOFFSETFROM:-0500
TZOFFSETTO:-0400
TZNAME:EDT
DTSTART:20240310T070000
END:DAYLIGHT
BEGIN:STANDARD
TZOFFSETFROM:-0400
TZOFFSETTO:-0500
TZNAME:EST
DTSTART:20241103T060000
END:STANDARD
BEGIN:DAYLIGHT
TZOFFSETFROM:-0500
TZOFFSETTO:-0400
TZNAME:EDT
DTSTART:20250309T070000
END:DAYLIGHT
BEGIN:STANDARD
TZOFFSETFROM:-0400
TZOFFSETTO:-0500
TZNAME:EST
DTSTART:20251102T060000
END:STANDARD
BEGIN:DAYLIGHT
TZOFFSETFROM:-0500
TZOFFSETTO:-0400
TZNAME:EDT
DTSTART:20260308T070000
END:DAYLIGHT
BEGIN:STANDARD
TZOFFSETFROM:-0400
TZOFFSETTO:-0500
TZNAME:EST
DTSTART:20261101T060000
END:STANDARD
END:VTIMEZONE
BEGIN:VEVENT
DTSTART;TZID=America/New_York:20250318T210000
DTEND;TZID=America/New_York:20250318T220000
DTSTAMP:20260422T215129
CREATED:20250317T122400Z
LAST-MODIFIED:20250317T122400Z
UID:10000014-1742331600-1742335200@coalitionofrefugefriends.com
SUMMARY:Finding Refuge: Alaska Refuges's gifts to Your Mind\, Body\, and Spirit
DESCRIPTION:Matt Conner supervises the large diverse visitor services programs of the Kenai Refuge. But this talk is the result of his personal transformation as the result of health concerns. Matt is now a certified personal trainer eager to incorporate health benefits in management activities. He was instrumental in adding outdoor exercise equipment to the Kenai Refuge Multi Use Trail tying the exercises to animal adaptations so that wildlife appreciation and exercise can go hand in hand. We will hear how he has combined his lifelong passion for nature and wildlife with his new found passion for healthy living. Matt will discuss how refuges provide opportunities for healing and health through exercise\, nature immersion and as a source for whole foods and spiritual connection. \n\nMatt is speaking at the Kenai Refuge with watch parties in Anchorage and Homer as well as zoom. Details and zoom link here. https://alaskarefugefriends.org/findingrefuge-3-25/
URL:https://coalitionofrefugefriends.com/event/finding-refuge-alaska-refugess-gifts-to-your-mind-body-and-spirit/
CATEGORIES:Event
ATTACH;FMTTYPE=image/png:https://coalitionofrefugefriends.com/wp-content/uploads/2025/03/Screenshot-2025-03-17-082134.png
END:VEVENT
END:VCALENDAR