BEGIN:VCALENDAR
VERSION:2.0
PRODID:-//Coalition of Refuge Friends and Advocates - ECPv6.15.20//NONSGML v1.0//EN
CALSCALE:GREGORIAN
METHOD:PUBLISH
X-ORIGINAL-URL:https://coalitionofrefugefriends.com
X-WR-CALDESC:Events for Coalition of Refuge Friends and Advocates
REFRESH-INTERVAL;VALUE=DURATION:PT1H
X-Robots-Tag:noindex
X-PUBLISHED-TTL:PT1H
BEGIN:VTIMEZONE
TZID:America/New_York
BEGIN:DAYLIGHT
TZOFFSETFROM:-0500
TZOFFSETTO:-0400
TZNAME:EDT
DTSTART:20250309T070000
END:DAYLIGHT
BEGIN:STANDARD
TZOFFSETFROM:-0400
TZOFFSETTO:-0500
TZNAME:EST
DTSTART:20251102T060000
END:STANDARD
BEGIN:DAYLIGHT
TZOFFSETFROM:-0500
TZOFFSETTO:-0400
TZNAME:EDT
DTSTART:20260308T070000
END:DAYLIGHT
BEGIN:STANDARD
TZOFFSETFROM:-0400
TZOFFSETTO:-0500
TZNAME:EST
DTSTART:20261101T060000
END:STANDARD
BEGIN:DAYLIGHT
TZOFFSETFROM:-0500
TZOFFSETTO:-0400
TZNAME:EDT
DTSTART:20270314T070000
END:DAYLIGHT
BEGIN:STANDARD
TZOFFSETFROM:-0400
TZOFFSETTO:-0500
TZNAME:EST
DTSTART:20271107T060000
END:STANDARD
END:VTIMEZONE
BEGIN:VEVENT
DTSTART;TZID=America/New_York:20260415T140000
DTEND;TZID=America/New_York:20260415T150000
DTSTAMP:20260422T064121
CREATED:20260406T191908Z
LAST-MODIFIED:20260406T191908Z
UID:10000056-1776261600-1776265200@coalitionofrefugefriends.com
SUMMARY:Endowment for our Refuge's Future
DESCRIPTION:Join us for a quick start to thinking about an Endowment to help secure the future of your Refuge.  There are many details involved\, but on this webinar\, we’ll give you an outline of how to start\, and what challenges to expect. Such as: \n\nDeciding what the purpose of your Endowment would be. This will vary a lot from refuge to refuge but deserves a lot of thought.\nFinding a Foundation or other organization to maintain and invest your Endowment\nCreating a starting mailing list\, or group of founding donors\nForm a committee to deal exclusively with the Endowment and fundraising\nMaintaining records and documenting progress\nReaching goal and deciding on disbursements\n\nOur presenters were instrumental in starting the endowment at Hakalau Forest NWR HI in 2015. It is now just short of $3M and they plan to reach $3.5M by the end of this calendar year. \nPresenters \n\nSharon Scott\, Board member of Friends of Hakalau Forest NWR\, and Chair of the Endowment Committee.  Co-Founder of Hakalau Endowment\nMike Scott\, Former Board member of Friends of Hakalau Forest\, and co-founder of Hakalau Endowment.  Mike was also a USFWS endangered species biologist in Hawaii from 1974-84\, and conducted a 5-year survey of all native forests on the main islands of Hawaii\, which contributed to identifying Hakalau Forest as a native bird “hot spot”\, and helped get the Refuge established.\n\nSharon and Mike have been involved with Hakalau for over 40 years\, and still work toward protecting its species and habitats. \nSign Up!\nWe look forward to seeing you then\, \nNational Wildlife Refuge Association &\nCoalition of Refuge Friends & Advocates
URL:https://coalitionofrefugefriends.com/event/endowment-for-our-refuges-future/
CATEGORIES:Webinar
ATTACH;FMTTYPE=image/png:https://coalitionofrefugefriends.com/wp-content/uploads/2026/04/Screenshot-2026-04-06-151240.png
ORGANIZER;CN="Coalition of Refuge Friends and Advocates (CORFA)":MAILTO:coalitionrefugefriends@gmail.com
END:VEVENT
BEGIN:VEVENT
DTSTART;TZID=America/New_York:20260426T170000
DTEND;TZID=America/New_York:20260426T170000
DTSTAMP:20260422T064121
CREATED:20260412T115358Z
LAST-MODIFIED:20260412T115358Z
UID:10000059-1777222800-1777222800@coalitionofrefugefriends.com
SUMMARY:Drones Over Kuaihelani
DESCRIPTION:Join Friends of Midway Atoll for their upcoming live webinar\, Drones Over Kuaihelani\, featuring guest speaker\, biologist & drone operator Anna Vallery! She will take you behind the scenes of how cutting-edge drone technology is transforming seabird monitoring on Midway Atoll. The presentation will include a slideshow and a live Q&A session at the end! \nSave the Date – Sunday\, April 26\, 2026 \n\n11:00am Hawai’i Time\n2:00 PM Pacific Time\n5:00 PM Eastern Time\n\nDuring this webinar\, Anna will discuss: \n\nThe challenges and opportunities of working with seabirds in the Northwest Hawaiian Islands\nHow drones are being used to support monitoring efforts\nHow imagery from drones can be analyzed to count birds\, distinguish between breeding and non-breeding albatross\n\n…and more!  \nSpots are limited—reserve yours now:\nhttps://friendsofmidway.org/register-for-our-live-webinar-drones-over-kuaihelani/ \nThis is your chance to experience Midway in a whole new way—and connect more deeply with the impact you can make as a valued part of our FOMA community. \nMahalo for being part of this journey\,
URL:https://coalitionofrefugefriends.com/event/drones-over-kuaihelani/
CATEGORIES:Event
ATTACH;FMTTYPE=image/png:https://coalitionofrefugefriends.com/wp-content/uploads/2026/04/Screenshot-2026-04-12-075232.png
END:VEVENT
BEGIN:VEVENT
DTSTART;TZID=America/New_York:20260428T160000
DTEND;TZID=America/New_York:20260428T170000
DTSTAMP:20260422T064121
CREATED:20260416T140303Z
LAST-MODIFIED:20260416T140303Z
UID:10000061-1777392000-1777395600@coalitionofrefugefriends.com
SUMMARY:Friends SHARE Call
DESCRIPTION:Get ready to SHARE! The next Friends SHARE Zoom call is on Tuesday\, April 28th at 4pm Eastern and we’ll be focusing on nature stores. \nOur speakers will be: \n\nJoan Van Gorp\, long-time member\, and past president of Friends of Neal Smith NWR and active participant in CORFA programs. Joan is heading up an effort to build a “nature store resource group”– we’ll let her explain it!\nSally Dery is the Merchandising Team Leader for Friends of Plum and Pilot Islands NWRs. They have a physical store (on an island!) and an online store.\nJanelle Wicks\, ED\, or Jill Bachman\, Nature Store Manager\, representing the Friends of Malheur NWR\, will describe their physical nature store and online shop. Janelle is also on our SHARE call planning team.\nMaria Montag\, President of Friends of California Condors Wild and Free\, will share their experience\, and hardships\, of experimenting with an online store. Maria is also on our SHARE call planning team.\n\nWe will also have time at the end of the call to reconvene and field any hot topics or urgent issues you may have. If you have a critical issue for the call\, that you’d like to discuss with other Friends\, or you’re looking for expertise on a specific subject\, please let us know when you RSVP and we’ll do our best to be prepared and find help! The sooner you can let us know\, the better. \nThe Zoom call is only for a member of a Friends group or their staff. Feel free to share this invite with your board members and other Friends groups. To ensure everyone can fully express themselves\, ask tough questions\, have their comments heard and respected\, and be assured that conflict will be respectful the call will not be recorded\, and we ask all participants to review and agree to our Safe Space Guidelines. \nDate: Tuesday\, April 28\, 2026 \nTime: 4:00 PM ET\, 3:00 PM CT\, 2:00 PM MT\, 1:00 PM PT \nRSVP: To coalitionrefugefriends@gmail.com by April 26th with Friends SHARE in the subject line. Register in advance to receive the zoom link. In the body of the email tell us the name of your Friends. \nWe are looking forward to getting together. \nCORFA’s Friends SHARE Team \nMike Baldwin\, Ceal Craig\, Cheryl Hart\, Joan Patterson\, Polly Sheppard\, Willem Stoeller\, Joan Van Gorp\, Kathy Woodward\, Tom Worthington\, Maria Montag\, Janelle Wicks \nP.S. We thank the National Wildlife Refuge Association for providing Zoom for the call.
URL:https://coalitionofrefugefriends.com/event/friends-share-call/
CATEGORIES:Friends SHARE
ATTACH;FMTTYPE=image/png:https://coalitionofrefugefriends.com/wp-content/uploads/2026/03/Screenshot-2026-03-18-150733.png
ORGANIZER;CN="Coalition of Refuge Friends and Advocates (CORFA)":MAILTO:coalitionrefugefriends@gmail.com
END:VEVENT
END:VCALENDAR