BEGIN:VCALENDAR
VERSION:2.0
PRODID:-//Coalition of Refuge Friends and Advocates - ECPv6.15.20//NONSGML v1.0//EN
CALSCALE:GREGORIAN
METHOD:PUBLISH
X-WR-CALNAME:Coalition of Refuge Friends and Advocates
X-ORIGINAL-URL:https://coalitionofrefugefriends.com
X-WR-CALDESC:Events for Coalition of Refuge Friends and Advocates
REFRESH-INTERVAL;VALUE=DURATION:PT1H
X-Robots-Tag:noindex
X-PUBLISHED-TTL:PT1H
BEGIN:VTIMEZONE
TZID:America/New_York
BEGIN:DAYLIGHT
TZOFFSETFROM:-0500
TZOFFSETTO:-0400
TZNAME:EDT
DTSTART:20240310T070000
END:DAYLIGHT
BEGIN:STANDARD
TZOFFSETFROM:-0400
TZOFFSETTO:-0500
TZNAME:EST
DTSTART:20241103T060000
END:STANDARD
BEGIN:DAYLIGHT
TZOFFSETFROM:-0500
TZOFFSETTO:-0400
TZNAME:EDT
DTSTART:20250309T070000
END:DAYLIGHT
BEGIN:STANDARD
TZOFFSETFROM:-0400
TZOFFSETTO:-0500
TZNAME:EST
DTSTART:20251102T060000
END:STANDARD
BEGIN:DAYLIGHT
TZOFFSETFROM:-0500
TZOFFSETTO:-0400
TZNAME:EDT
DTSTART:20260308T070000
END:DAYLIGHT
BEGIN:STANDARD
TZOFFSETFROM:-0400
TZOFFSETTO:-0500
TZNAME:EST
DTSTART:20261101T060000
END:STANDARD
END:VTIMEZONE
BEGIN:VEVENT
DTSTART;TZID=America/New_York:20250415T160000
DTEND;TZID=America/New_York:20250415T170000
DTSTAMP:20260423T042538
CREATED:20250312T110805Z
LAST-MODIFIED:20250402T141403Z
UID:10000007-1744732800-1744736400@coalitionofrefugefriends.com
SUMMARY:Connect and Collaborate: Friends SHARE Zoom Invite!
DESCRIPTION:CORFA is hosting the next Friends SHARE zoom call and it’s right around the corner! Please join us on April 15th at 4:00 pm Eastern. Please RSVP by April 11th and we will send you a zoom link for the call. Registration is required in advance to receive the Zoom link. \nThe Zoom call is only for a member of a Friends group or their staff. Feel free to share this invite with your board members and other Friends groups. To ensure everyone can fully express themselves\, ask tough questions\, have their comments heard and respected\, and be assured that conflict will be respectful the call will not be recorded\, and we ask all participants to review and agree to our Safe Space Guidelines. \nDate: Tuesday\, April 15\, 2025 \nTime: 4:00 PM ET\, 3:00 PM CT\, 2:00 PM MT\, 1:00 PM PT \nRSVP: To coalitionrefugefriends@gmail.com by March 22nd with Friends SHARE in the subject line. In the body of the email tell us the name of your Friends group. \nWe are looking forward to getting together. \nCORFA’s Friends SHARE Team \nMike Baldwin\, Ceal Craig\, Cheryl Hart\, Sarah Meyer\, Joan Patterson\, Polly Sheppard\, Willem Stoeller\, Joan Van Gorp\, Kathy Woodward\, Tom Worthington \nP.S. We thank the National Wildlife Refuge Association for providing Zoom for the call.
URL:https://coalitionofrefugefriends.com/event/save-the-date-january-2025-friends-share/
CATEGORIES:Friends SHARE
ATTACH;FMTTYPE=image/jpeg:https://coalitionofrefugefriends.com/wp-content/uploads/2025/03/17-oct-24.jpg
ORGANIZER;CN="Coalition of Refuge Friends and Advocates (CORFA)":MAILTO:coalitionrefugefriends@gmail.com
END:VEVENT
END:VCALENDAR